BEGIN:VCALENDAR
VERSION:2.0
PRODID:-//Frederiksv&aelig;rk Bueskytteforening - ECPv6.15.20//NONSGML v1.0//EN
CALSCALE:GREGORIAN
METHOD:PUBLISH
X-WR-CALNAME:Frederiksv&aelig;rk Bueskytteforening
X-ORIGINAL-URL:https://frvbue.dk
X-WR-CALDESC:Begivenheder for Frederiksv&aelig;rk Bueskytteforening
REFRESH-INTERVAL;VALUE=DURATION:PT1H
X-Robots-Tag:noindex
X-PUBLISHED-TTL:PT1H
BEGIN:VTIMEZONE
TZID:Europe/Copenhagen
BEGIN:DAYLIGHT
TZOFFSETFROM:+0100
TZOFFSETTO:+0200
TZNAME:CEST
DTSTART:20250330T010000
END:DAYLIGHT
BEGIN:STANDARD
TZOFFSETFROM:+0200
TZOFFSETTO:+0100
TZNAME:CET
DTSTART:20251026T010000
END:STANDARD
BEGIN:DAYLIGHT
TZOFFSETFROM:+0100
TZOFFSETTO:+0200
TZNAME:CEST
DTSTART:20260329T010000
END:DAYLIGHT
BEGIN:STANDARD
TZOFFSETFROM:+0200
TZOFFSETTO:+0100
TZNAME:CET
DTSTART:20261025T010000
END:STANDARD
BEGIN:DAYLIGHT
TZOFFSETFROM:+0100
TZOFFSETTO:+0200
TZNAME:CEST
DTSTART:20270328T010000
END:DAYLIGHT
BEGIN:STANDARD
TZOFFSETFROM:+0200
TZOFFSETTO:+0100
TZNAME:CET
DTSTART:20271031T010000
END:STANDARD
END:VTIMEZONE
BEGIN:VEVENT
DTSTART;VALUE=DATE:20260815
DTEND;VALUE=DATE:20260817
DTSTAMP:20260422T162742
CREATED:20260420T140349Z
LAST-MODIFIED:20260420T140349Z
UID:2443-1786752000-1786924799@frvbue.dk
SUMMARY:Udendørs Ungdoms Skive DM 2026
DESCRIPTION:  \nLink til Bueskydning Danmark aktiviteten her
URL:https://frvbue.dk/index.php/aktivitet/udendoers-ungdoms-skive-dm-2026/
CATEGORIES:Mesterskab,Stævne
END:VEVENT
BEGIN:VEVENT
DTSTART;VALUE=DATE:20260822
DTEND;VALUE=DATE:20260824
DTSTAMP:20260422T162742
CREATED:20260420T140713Z
LAST-MODIFIED:20260420T140713Z
UID:2446-1787356800-1787529599@frvbue.dk
SUMMARY:Udendørs Senior DM 2026
DESCRIPTION:  \nLink til Bueskydning Danmark aktiviteten her
URL:https://frvbue.dk/index.php/aktivitet/udendoers-senior-dm-2026/
LOCATION:Køge Stadion bygning 10 Køge\, 4600
CATEGORIES:Mesterskab,Stævne
END:VEVENT
END:VCALENDAR