BEGIN:VCALENDAR
VERSION:2.0
PRODID:-//Frederiksv&aelig;rk Bueskytteforening - ECPv6.15.20//NONSGML v1.0//EN
CALSCALE:GREGORIAN
METHOD:PUBLISH
X-ORIGINAL-URL:https://frvbue.dk
X-WR-CALDESC:Begivenheder for Frederiksv&aelig;rk Bueskytteforening
REFRESH-INTERVAL;VALUE=DURATION:PT1H
X-Robots-Tag:noindex
X-PUBLISHED-TTL:PT1H
BEGIN:VTIMEZONE
TZID:Europe/Copenhagen
BEGIN:DAYLIGHT
TZOFFSETFROM:+0100
TZOFFSETTO:+0200
TZNAME:CEST
DTSTART:20250330T010000
END:DAYLIGHT
BEGIN:STANDARD
TZOFFSETFROM:+0200
TZOFFSETTO:+0100
TZNAME:CET
DTSTART:20251026T010000
END:STANDARD
BEGIN:DAYLIGHT
TZOFFSETFROM:+0100
TZOFFSETTO:+0200
TZNAME:CEST
DTSTART:20260329T010000
END:DAYLIGHT
BEGIN:STANDARD
TZOFFSETFROM:+0200
TZOFFSETTO:+0100
TZNAME:CET
DTSTART:20261025T010000
END:STANDARD
BEGIN:DAYLIGHT
TZOFFSETFROM:+0100
TZOFFSETTO:+0200
TZNAME:CEST
DTSTART:20270328T010000
END:DAYLIGHT
BEGIN:STANDARD
TZOFFSETFROM:+0200
TZOFFSETTO:+0100
TZNAME:CET
DTSTART:20271031T010000
END:STANDARD
END:VTIMEZONE
BEGIN:VEVENT
DTSTART;VALUE=DATE:20260613
DTEND;VALUE=DATE:20260614
DTSTAMP:20260422T123954
CREATED:20260420T135500Z
LAST-MODIFIED:20260420T135500Z
UID:2433-1781308800-1781395199@frvbue.dk
SUMMARY:Sjællandsmesterskaber for Ungdom
DESCRIPTION:Link til bueskydning Danmark aktivitet her
URL:https://frvbue.dk/index.php/aktivitet/sjaellandsmesterskaber-for-ungdom/
CATEGORIES:Mesterskab,Stævne
END:VEVENT
BEGIN:VEVENT
DTSTART;VALUE=DATE:20260614
DTEND;VALUE=DATE:20260615
DTSTAMP:20260422T123954
CREATED:20260420T135731Z
LAST-MODIFIED:20260420T135731Z
UID:2436-1781395200-1781481599@frvbue.dk
SUMMARY:Sjællandsmesterskaber for Senior og 50+
DESCRIPTION:  \nLink til Bueskydning Danmark aktiviteten her
URL:https://frvbue.dk/index.php/aktivitet/sjaellandsmesterskaber-for-senior-og-50/
LOCATION:Royal Stage\, Milnersvej 39\, 3400 Hillerød
CATEGORIES:Mesterskab,Stævne
END:VEVENT
END:VCALENDAR